BEGIN:VCALENDAR
VERSION:2.0
PRODID:-//Gurunanak Foundation Global School
CALSCALE:GREGORIAN
METHOD:PUBLISH
X-WR-CALNAME:Gurunanak Foundation Global School
X-ORIGINAL-URL:https://gnfgsjalandhar.com/event/lohri-celebrations/
X-WR-CALDESC:Lohri Celebrations
BEGIN:VEVENT
DTSTART:20180113T000000
DTEND:20180113T000000
SUMMARY:Lohri Celebrations
DESCRIPTION:The Lohri was celebrated in all its solemnity and grandeur at Gurunanak Foundation Global School Jalandhar on 13th January.
LOCATION:Gurunanak Foundation Global School Jalandhar Phase 1, Urban Estate, Jalandhar, Punjab
END:VEVENT
END:VCALENDAR
