BEGIN:VCALENDAR
VERSION:2.0
PRODID:-//Gurunanak Foundation Global School
CALSCALE:GREGORIAN
METHOD:PUBLISH
X-WR-CALNAME:Gurunanak Foundation Global School
X-ORIGINAL-URL:https://gnfgsjalandhar.com/event/fun-fair-carnival/
X-WR-CALDESC:Fun Fair Carnival
BEGIN:VEVENT
DTSTART:20201230T000000
DTEND:20201230T000000
SUMMARY:Fun Fair Carnival
DESCRIPTION:A funfair carnival was organized in all its solemnity and grandeur at Gurunanak Foundation Global School Jalandhar on 30th December.
LOCATION:Gurunanak Foundation Global School Jalandhar Phase 1, Urban Estate, Jalandhar, Punjab
END:VEVENT
END:VCALENDAR
