BEGIN:VCALENDAR
VERSION:2.0
PRODID:-//Gurunanak Foundation Global School
CALSCALE:GREGORIAN
METHOD:PUBLISH
X-WR-CALNAME:Gurunanak Foundation Global School
X-ORIGINAL-URL:https://gnfgsjalandhar.com/event/diwali-celebrations/
X-WR-CALDESC:Diwali Celebrations
BEGIN:VEVENT
DTSTART:20181107T000000
DTEND:20181107T000000
SUMMARY:Diwali Celebrations
DESCRIPTION:We celebrated Diwali Festival in our school. We decorated it with flags and earthen lamps. We had to plant trees to convert this Diwali into Eco-Friendly-Diwali.
LOCATION:Gurunanak Foundation Global School Jalandhar Phase 1, Urban Estate, Jalandhar, Punjab
END:VEVENT
END:VCALENDAR
