BEGIN:VCALENDAR
VERSION:2.0
PRODID:-//Gurunanak Foundation Global School
CALSCALE:GREGORIAN
METHOD:PUBLISH
X-WR-CALNAME:Gurunanak Foundation Global School
X-ORIGINAL-URL:https://gnfgsjalandhar.com/event/navratri-celebrations/
X-WR-CALDESC:Navratri Celebrations
BEGIN:VEVENT
DTSTART:20181017T000000
DTEND:20181017T000000
SUMMARY:Navratri Celebrations
DESCRIPTION:During Navratri festival celebration at the school campus, the students and the staff presented garba dance. This Garba saw three generations participating, Teachers, children and their parents all were part of this footloose frenzy.
LOCATION:Gurunanak Foundation Global School Jalandhar Phase 1, Urban Estate, Jalandhar, Punjab
END:VEVENT
END:VCALENDAR
