BEGIN:VCALENDAR
VERSION:2.0
PRODID:-//Gurunanak Foundation Global School
CALSCALE:GREGORIAN
METHOD:PUBLISH
X-WR-CALNAME:Gurunanak Foundation Global School
X-ORIGINAL-URL:https://gnfgsjalandhar.com/event/kinder-activity-23-24/
X-WR-CALDESC:Kindergarten Activity 23-24
BEGIN:VEVENT
DTSTART:
DTEND:
SUMMARY:Kindergarten Activity 23-24
DESCRIPTION:Our school offers a diverse range of activities to enrich the lives of our students, nurture their passions, and foster a sense of community. These activities play a crucial role in shaping well-rounded individuals who are not only academically accomplished but also socially adept and culturally aware.
LOCATION:Gurunanak Foundation Global School Jalandhar Phase 1, Urban Estate, Jalandhar, Punjab
END:VEVENT
END:VCALENDAR
