BEGIN:VCALENDAR
VERSION:2.0
PRODID:-//Gurunanak Foundation Global School
CALSCALE:GREGORIAN
METHOD:PUBLISH
X-WR-CALNAME:Gurunanak Foundation Global School
X-ORIGINAL-URL:https://gnfgsjalandhar.com/event/republic-day-celebrations/
X-WR-CALDESC:Republic Day Celebrations
BEGIN:VEVENT
DTSTART:20210126T000000
DTEND:20210126T000000
SUMMARY:Republic Day Celebrations
DESCRIPTION:The Republic Day was celebrated in all its solemnity and grandeur at Gurunanak Foundation Global School Jalandhar on 26th January.
LOCATION:Gurunanak Foundation Global School Jalandhar Phase 1, Urban Estate, Jalandhar, Punjab
END:VEVENT
END:VCALENDAR
